BEGIN:VCALENDAR
VERSION:2.0
PRODID:-//eventon.com NONSGML v1.0//EN
CALSCALE:GREGORIAN
METHOD:PUBLISH
BEGIN:VEVENT
UID:69ed034778a09
DTSTAMP:20260425T180911Z
DTSTART:20201217T200000Z
DTEND:20201217T220000Z
LOCATION:Hidden Springs of McKinney 6421 McKinney Ranch Parkway
SUMMARY:Taste of the Holidays
DESCRIPTION:’Tis the season\,  and at Hidden Springs\,  we’re celebrati
 ng with old – and new – friends. Join us for a festive gathering in ou
 r brand-new rental retirement living community – all decked out in its ho
 liday finery. Indulge in the flavors of the season as we serve desserts\,  
 sweets\,  coffee\,  tea[..]\nhttps://www.hiddenspringsmckinney.com/events/t
 aste-of-the-holidays/
URL:https://www.hiddenspringsmckinney.com/events/taste-of-the-holidays/
END:VEVENT
END:VCALENDAR